BEGIN:VCALENDAR
VERSION:2.0
PRODID:-//Egedal Gymnasium - ECPv6.15.20//NONSGML v1.0//EN
CALSCALE:GREGORIAN
METHOD:PUBLISH
X-ORIGINAL-URL:https://www.egedalgym.dk
X-WR-CALDESC:Begivenheder for Egedal Gymnasium
REFRESH-INTERVAL;VALUE=DURATION:PT1H
X-Robots-Tag:noindex
X-PUBLISHED-TTL:PT1H
BEGIN:VTIMEZONE
TZID:UTC
BEGIN:STANDARD
TZOFFSETFROM:+0000
TZOFFSETTO:+0000
TZNAME:UTC
DTSTART:20250101T000000
END:STANDARD
END:VTIMEZONE
BEGIN:VEVENT
DTSTART;TZID=UTC:20260424T000000
DTEND;TZID=UTC:20260424T000000
DTSTAMP:20260423T223417
CREATED:20250916T082609Z
LAST-MODIFIED:20250916T082609Z
UID:26222-1776988800-1776988800@www.egedalgym.dk
SUMMARY:Gallafest
DESCRIPTION:
URL:https://www.egedalgym.dk/something/gallafest/
END:VEVENT
BEGIN:VEVENT
DTSTART;TZID=UTC:20260429T000000
DTEND;TZID=UTC:20260430T000000
DTSTAMP:20260423T223417
CREATED:20250916T082609Z
LAST-MODIFIED:20250916T082609Z
UID:26223-1777420800-1777507200@www.egedalgym.dk
SUMMARY:DHO: Skrivedag (1g)
DESCRIPTION:
URL:https://www.egedalgym.dk/something/dho-skrivedag-1g/
END:VEVENT
END:VCALENDAR