BEGIN:VCALENDAR
VERSION:2.0
PRODID:-//Egedal Gymnasium - ECPv6.15.20//NONSGML v1.0//EN
CALSCALE:GREGORIAN
METHOD:PUBLISH
X-WR-CALNAME:Egedal Gymnasium
X-ORIGINAL-URL:https://www.egedalgym.dk
X-WR-CALDESC:Begivenheder for Egedal Gymnasium
REFRESH-INTERVAL;VALUE=DURATION:PT1H
X-Robots-Tag:noindex
X-PUBLISHED-TTL:PT1H
BEGIN:VTIMEZONE
TZID:UTC
BEGIN:STANDARD
TZOFFSETFROM:+0000
TZOFFSETTO:+0000
TZNAME:UTC
DTSTART:20250101T000000
END:STANDARD
END:VTIMEZONE
BEGIN:VEVENT
DTSTART;TZID=UTC:20260323T000000
DTEND;TZID=UTC:20260327T000000
DTSTAMP:20260424T124325
CREATED:20250916T082551Z
LAST-MODIFIED:20250916T082551Z
UID:26217-1774224000-1774569600@www.egedalgym.dk
SUMMARY:Udveksling til Spanien (1g)
DESCRIPTION:
URL:https://www.egedalgym.dk/something/udveksling-til-spanien-1g/
END:VEVENT
BEGIN:VEVENT
DTSTART;TZID=UTC:20260323T000000
DTEND;TZID=UTC:20260327T000000
DTSTAMP:20260424T124325
CREATED:20250916T082551Z
LAST-MODIFIED:20250916T082551Z
UID:26218-1774224000-1774569600@www.egedalgym.dk
SUMMARY:Studietur (2g)
DESCRIPTION:
URL:https://www.egedalgym.dk/something/studietur-2g/
END:VEVENT
END:VCALENDAR