BEGIN:VCALENDAR
VERSION:2.0
PRODID:-//Egedal Gymnasium - ECPv6.15.20//NONSGML v1.0//EN
CALSCALE:GREGORIAN
METHOD:PUBLISH
X-ORIGINAL-URL:https://www.egedalgym.dk
X-WR-CALDESC:Begivenheder for Egedal Gymnasium
REFRESH-INTERVAL;VALUE=DURATION:PT1H
X-Robots-Tag:noindex
X-PUBLISHED-TTL:PT1H
BEGIN:VTIMEZONE
TZID:UTC
BEGIN:STANDARD
TZOFFSETFROM:+0000
TZOFFSETTO:+0000
TZNAME:UTC
DTSTART:20250101T000000
END:STANDARD
END:VTIMEZONE
BEGIN:VEVENT
DTSTART;TZID=UTC:20260316T000000
DTEND;TZID=UTC:20260320T000000
DTSTAMP:20260425T012757
CREATED:20250916T082550Z
LAST-MODIFIED:20250916T082550Z
UID:26215-1773619200-1773964800@www.egedalgym.dk
SUMMARY:Tysk besøg fra Lübeck (1g & 2g)
DESCRIPTION:
URL:https://www.egedalgym.dk/something/tysk-besoeg-fra-lubeck-1g-2g/
END:VEVENT
END:VCALENDAR